BEGIN:VCALENDAR
VERSION:2.0
PRODID:gruenekarlsruhe.de
METHOD:PUBLISH
BEGIN:VTIMEZONE
TZID:Europe/Berlin
X-LIC-LOCATION:Europe/Berlin
BEGIN:DAYLIGHT
TZOFFSETFROM:+0100
TZOFFSETTO:+0200
TZNAME:CEST
DTSTART:19700329T020000
RRULE:FREQ=YEARLY;INTERVAL=1;BYDAY=-1SU;BYMONTH=3
END:DAYLIGHT
BEGIN:STANDARD
TZOFFSETFROM:+0200
TZOFFSETTO:+0100
TZNAME:CET
DTSTART:19701025T030000
RRULE:FREQ=YEARLY;INTERVAL=1;BYDAY=-1SU;BYMONTH=10
END:STANDARD
END:VTIMEZONE
BEGIN:VEVENT
UID:cbd16b1d9709894d7dd4753a69394541@gruenekarlsruhe.de
URL;VALUE=URI:https://gruenekarlsruhe.de/termine/ak-bedingungsloses-grund
 einkommen/
LOCATION:Walhalla @ Augartenstr. 27
SUMMARY:AK Bedingungsloses Grundeinkommen
DESCRIPTION;ALTREP="data:text/html,%3Cp%3EEs%20wird%20ein%20gr%C3%BCner%2
 0Arbeitskreis%20zum%20Themenkomplex%20%22Grundeinkommen%22%20gegr%C3%BCnd
 et.%20Am%2012.%20Dezember%20findet%20ein%20erstes%20Treffen%20statt.%20Sc
 hwerpunkt%20an%20dem%20Abend%3A%20Finanzierung.%3C%2Fp%3E%0A%3Cp%3EIntere
 ssierte%20sind%20herzlich%20willkommen%21%3C%2Fp%3E":Es wird ein grüner 
 Arbeitskreis zum Themenkomplex "Grundeinkommen" gegründet. Am 12. Dezemb
 er findet ein erstes Treffen statt. Schwerpunkt an dem Abend: Finanzierun
 g.\n\nInteressierte sind herzlich willkommen!
CLASS:PUBLIC
DTSTART;TZID=Europe/Berlin:20181212T190000
DTEND;TZID=Europe/Berlin:20181212T190000
DTSTAMP:20260421T163703
END:VEVENT
END:VCALENDAR