BEGIN:VCALENDAR
VERSION:2.0
PRODID:gruenekarlsruhe.de
METHOD:PUBLISH
BEGIN:VTIMEZONE
TZID:Europe/Berlin
X-LIC-LOCATION:Europe/Berlin
BEGIN:DAYLIGHT
TZOFFSETFROM:+0100
TZOFFSETTO:+0200
TZNAME:CEST
DTSTART:19700329T020000
RRULE:FREQ=YEARLY;INTERVAL=1;BYDAY=-1SU;BYMONTH=3
END:DAYLIGHT
BEGIN:STANDARD
TZOFFSETFROM:+0200
TZOFFSETTO:+0100
TZNAME:CET
DTSTART:19701025T030000
RRULE:FREQ=YEARLY;INTERVAL=1;BYDAY=-1SU;BYMONTH=10
END:STANDARD
END:VTIMEZONE
BEGIN:VEVENT
UID:fafcbb1f938d6df8b8e209fdc03edccb@gruenekarlsruhe.de
URL;VALUE=URI:https://gruenekarlsruhe.de/events/gemeinderatsfraktion-tele
 fonische-sprechstunde-fuer-buergerinnen-11/
LOCATION:
SUMMARY:Gemeinderatsfraktion: Telefonische Sprechstunde für Bürger*inne
 n
DESCRIPTION;ALTREP="data:text/html,%3Cp%3EDie%20Stadtr%C3%A4tin%20Dr.%20S
 onja%20Klingert%20steht%20am%20Montag%2C%20den%2004.%20Mai%20von%2012%3A0
 0%20%E2%80%93%2013%3A00%20Uhr%20allen%20Karlsruher%20B%C3%BCrger%2Ainnen%
 20f%C3%BCr%20einen%20pers%C3%B6nlichen%20Austausch%20unter%20der%20Telefo
 nnummer%200721%2F133%20%E2%80%93%2010%2093%20zur%20Verf%C3%BCgung.nDa%20k
 eine%20konkreten%20Termine%20vergeben%20werden%2C%20bitten%20wir%20darum%
 2C%20den%20gesamten%20Zeitraum%20zum%20Anrufen%20zu%20nutzen.nDr.%20Sonja
 %20Klingert%20ist%20Sprecherin%20der%20gr%C3%BCnen%20Gemeinderatsfraktion
 %20f%C3%BCr%20Klima-%20und%20Energiepolitik%2C%20Klimaanpassung%20und%20S
 tadtgr%C3%BCn%2C%20Umweltschutz%2C%20Naturschutz%20und%20Forst.nEin%20Sch
 werpunkt%20ihrer%20Arbeit%20ist%20der%20Einsatz%20f%C3%BCr%20Klimagerecht
 igkeit%20und%20den%20Ausbau%20erneuerbarer%20Energien.%20Sie%20engagiert%
 20sich%20au%C3%9Ferdem%20f%C3%BCr%20die%20Erhaltung%20der%20Artenvielfalt
 %2C%20mehr%20Stadtgr%C3%BCn%20und%20die%20konsequente%20Umsetzung%20der%2
 0kommunalen%20Klimaanpassungsstrategie.n%3C%2Fp%3E%3Cp%3E%3Ca%20href%3D%2
 2https%3A%2F%2Fgruenekarlsruhe.de%2Fevents%2Fgemeinderatsfraktion-telefon
 ische-sprechstunde-fuer-buergerinnen-11%2F%22%20title%3D%22Link%20in%20ei
 nem%20neuen%20Tab%20%C3%B6ffnen%22%20target%3D%22_blank%22%3EWeitere%20In
 formationen%26nbsp%3B%3Ci%20class%3D%22fa-solid%20fa-up-right-from-square
 %22%3E%3C%2Fi%3E%3C%2Fa%3E%3C%2Fp%3E":Die Stadträtin Dr. Sonja Klingert 
 steht am Montag\, den 04. Mai von 12:00 – 13:00 Uhr allen Karlsruher B
 ürger*innen für einen persönlichen Austausch unter der Telefonnummer 0
 721/133 – 10 93 zur Verfügung.nDa keine konkreten Termine vergeben wer
 den\, bitten wir darum\, den gesamten Zeitraum zum Anrufen zu nutzen.nDr.
  Sonja Klingert ist Sprecherin der grünen Gemeinderatsfraktion für Klim
 a- und Energiepolitik\, Klimaanpassung und Stadtgrün\, Umweltschutz\, Na
 turschutz und Forst.nEin Schwerpunkt ihrer Arbeit ist der Einsatz für Kl
 imagerechtigkeit und den Ausbau erneuerbarer Energien. Sie engagiert sich
  außerdem für die Erhaltung der Artenvielfalt\, mehr Stadtgrün und die
  konsequente Umsetzung der kommunalen Klimaanpassungsstrategie.nWeitere I
 nformationen 
CLASS:PUBLIC
DTSTART;TZID=Europe/Berlin:20260504T120000
DTEND;TZID=Europe/Berlin:20260504T130000
DTSTAMP:20260423T142626
END:VEVENT
END:VCALENDAR