BEGIN:VCALENDAR
VERSION:2.0
PRODID:gruenekarlsruhe.de
METHOD:PUBLISH
BEGIN:VTIMEZONE
TZID:Europe/Berlin
X-LIC-LOCATION:Europe/Berlin
BEGIN:DAYLIGHT
TZOFFSETFROM:+0100
TZOFFSETTO:+0200
TZNAME:CEST
DTSTART:19700329T020000
RRULE:FREQ=YEARLY;INTERVAL=1;BYDAY=-1SU;BYMONTH=3
END:DAYLIGHT
BEGIN:STANDARD
TZOFFSETFROM:+0200
TZOFFSETTO:+0100
TZNAME:CET
DTSTART:19701025T030000
RRULE:FREQ=YEARLY;INTERVAL=1;BYDAY=-1SU;BYMONTH=10
END:STANDARD
END:VTIMEZONE
BEGIN:VEVENT
UID:44391bb88b8392579c36d3598cfe4357@gruenekarlsruhe.de
URL;VALUE=URI:https://gruenekarlsruhe.de/events/offene-runde-15/
LOCATION:
SUMMARY:Offene Runde
DESCRIPTION;ALTREP="data:text/html,%3Cp%3ELiebe%20Freund%2Ainnen%2C%20lie
 be%20Interessierte%2Cnunsere%20n%C3%A4chste%20OFFENE%20Runde%20findet%20a
 m%20Montag%2C%20den%2004.%20Mai%2C%20ab%2019%3A00%20Uhr%20im%20Pizzahaus%
 20Oststadt%2C%20Rintheimerstr.%202%2C%20Karlsruhe%2C%20statt.nDiskutiert%
 20werden%3A%C2%A0Aktuelle%20BrennpunktenHauptthema%3An%E2%80%9EFrauen%20i
 n%20unserer%20Gesellschaft%20%E2%80%93%20Gleichstellung%2C%20Realit%C3%A4
 t%20und%20offene%20Fragen%E2%80%9CnTrotz%20Fortschritten%20erleben%20Frau
 en%20weiterhin%20Ungleichheiten%20%E2%80%93%20im%20Beruf%2C%20im%20Alltag
 %20und%20in%20der%20Verteilung%20von%20Verantwortung.%20Gleichzeitig%20ve
 r%C3%A4ndern%20sich%20Rollenbilder%20und%20gesellschaftliche%20Erwartunge
 n%20sp%C3%BCrbar.nEin%20oft%20zu%20wenig%20sichtbares%20Thema%20bleibt%20
 das%20private%20Umfeld%3A%20Gewalt%20gegen%20Frauen%2C%20insbesondere%20i
 m%20h%C3%A4uslichen%20Kontext%2C%20ist%20weiterhin%20Realit%C3%A4t.nWas%2
 0bedeutet%20das%20f%C3%BCr%20unser%20Zusammenleben%20%E2%80%93%20und%20f%
 C3%BCr%20unsere%20politische%20Arbeit%3FnWir%20wollen%20gemeinsam%20dar%C
 3%BCber%20sprechen%3AnnWo%20erleben%20wir%20Ungleichheit%20im%20Alltag%3F
 nWelche%20strukturellen%20Probleme%20bestehen%20weiterhin%3FnWelche%20Rol
 le%20spielen%20private%20Lebensrealit%C3%A4ten%20%E2%80%93%20auch%20im%20
 Hinblick%20auf%20Gewalt%3FnWas%20braucht%20es%20politisch%20und%20gesells
 chaftlich%20f%C3%BCr%20mehr%20Gleichstellung%20und%20Schutz%3FnnWir%20fre
 uen%20uns%20auf%20Euch%2C%20auf%20spannende%20Impulse%2C%20kritische%20Fr
 agen%20und%20gemeinsame%20%C3%9Cberlegungen.%20Interessierte%2C%20die%20m
 itdiskutieren%20wollen%2C%20sind%20wie%20immer%20herzlich%20willkommen%21
 nLiebe%20Gr%C3%BC%C3%9FenLioba%20%26amp%3B%20Flon%3C%2Fp%3E%3Cp%3E%3Ca%20
 href%3D%22https%3A%2F%2Fgruenekarlsruhe.de%2Fevents%2Foffene-runde-15%2F%
 22%20title%3D%22Link%20in%20einem%20neuen%20Tab%20%C3%B6ffnen%22%20target
 %3D%22_blank%22%3EWeitere%20Informationen%26nbsp%3B%3Ci%20class%3D%22fa-s
 olid%20fa-up-right-from-square%22%3E%3C%2Fi%3E%3C%2Fa%3E%3C%2Fp%3E":Liebe
  Freund*innen\, liebe Interessierte\,nunsere nächste OFFENE Runde findet
  am Montag\, den 04. Mai\, ab 19:00 Uhr im Pizzahaus Oststadt\, Rintheime
 rstr. 2\, Karlsruhe\, statt.nDiskutiert werden: Aktuelle BrennpunktenHau
 ptthema:n„Frauen in unserer Gesellschaft – Gleichstellung\, Realität
  und offene Fragen“nTrotz Fortschritten erleben Frauen weiterhin Unglei
 chheiten – im Beruf\, im Alltag und in der Verteilung von Verantwortung
 . Gleichzeitig verändern sich Rollenbilder und gesellschaftliche Erwartu
 ngen spürbar.nEin oft zu wenig sichtbares Thema bleibt das private Umfel
 d: Gewalt gegen Frauen\, insbesondere im häuslichen Kontext\, ist weiter
 hin Realität.nWas bedeutet das für unser Zusammenleben – und für uns
 ere politische Arbeit?nWir wollen gemeinsam darüber sprechen:nnWo erlebe
 n wir Ungleichheit im Alltag?nWelche strukturellen Probleme bestehen weit
 erhin?nWelche Rolle spielen private Lebensrealitäten – auch im Hinblic
 k auf Gewalt?nWas braucht es politisch und gesellschaftlich für mehr Gle
 ichstellung und Schutz?nnWir freuen uns auf Euch\, auf spannende Impulse\
 , kritische Fragen und gemeinsame Überlegungen. Interessierte\, die mitd
 iskutieren wollen\, sind wie immer herzlich willkommen!nLiebe GrüßenLio
 ba & FlonWeitere Informationen 
CLASS:PUBLIC
DTSTART;TZID=Europe/Berlin:20260504T190000
DTEND;TZID=Europe/Berlin:20260504T210000
DTSTAMP:20260424T144840
END:VEVENT
END:VCALENDAR