BEGIN:VCALENDAR
VERSION:2.0
PRODID:gruenekarlsruhe.de
METHOD:PUBLISH
BEGIN:VTIMEZONE
TZID:Europe/Berlin
X-LIC-LOCATION:Europe/Berlin
BEGIN:DAYLIGHT
TZOFFSETFROM:+0100
TZOFFSETTO:+0200
TZNAME:CEST
DTSTART:19700329T020000
RRULE:FREQ=YEARLY;INTERVAL=1;BYDAY=-1SU;BYMONTH=3
END:DAYLIGHT
BEGIN:STANDARD
TZOFFSETFROM:+0200
TZOFFSETTO:+0100
TZNAME:CET
DTSTART:19701025T030000
RRULE:FREQ=YEARLY;INTERVAL=1;BYDAY=-1SU;BYMONTH=10
END:STANDARD
END:VTIMEZONE
BEGIN:VEVENT
UID:00a03685138b880c827895a4acc27302@gruenekarlsruhe.de
URL;VALUE=URI:https://gruenekarlsruhe.de/termine/parking-day-2020/
LOCATION:Parklücke @ Karl-Friedrich-Str. 17
SUMMARY:Parking Day 2020
DESCRIPTION;ALTREP="data:text/html,%3Cp%3E%3C%2Fp%3E%0A%3Cp%3E%3C%2Fp%3E%
 0A%3Cp%3EAuch%20dieses%20Jahr%20sind%20wir%20beim%20Parking%20Day%20dabei
 %3A%3Cbr%20%2F%3E%0AKarl-Friedrich-Str.%2017%3C%2Fp%3E%0A%3Cp%3EWir%20fre
 uen%20uns%20auf%20eure%20Besuche%20in%20unserer%20Park-Oase%20%F0%9F%99%8
 2%3C%2Fp%3E%0A%3Cp%3EDie%20Stadt%20geh%C3%B6rt%20uns%21%3Cbr%20%2F%3E%0AG
 estalte%20eine%20Parkl%C3%BCcke%20zu%20einem%20PARK%20um%21%3C%2Fp%3E%0A%
 3Cp%3EAls%20Familie%2C%20Jugendgruppe%2C%20Verein%2C%20Schulklasse%20etc.
 %2C%20alle%20k%C3%B6nnen%20mitmachen.%20Einsetzen%2C%20umsetzen%2C%20hins
 etzen.%3Cbr%20%2F%3E%0ADamit%20dein%20Wohnort%20zumindest%20an%20diesem%2
 0Tag%20noch%20lebenswerter%20und%20umweltfreundlicher%20wird.%3C%2Fp%3E%0
 A%3Cp%3EDabei%20steht%20Dir%20v%C3%B6llig%20frei%2C%20auf%20welche%20Art%
 20Du%20deinen%20Park%20zu%20einer%20kleinen%20autofreien%20Zone%20machst.
 %3Cbr%20%2F%3E%0AEgal%20ob%20Blumen%2C%20H%C3%A4ngematten%2C%20B%C3%A4nke
 %2C%20St%C3%BChle%2C%20Sofa%2C%20Rasenfl%C3%A4chen%20oder%20was%20sonst%2
 0noch%20zum%20Ausruhen%20und%20Verweilen%20einl%C3%A4dt%20-%20gestalte%20
 deinen%20Park%2C%20wie%20es%20dir%20gef%C3%A4llt.%3Cbr%20%2F%3E%0AEs%20is
 t%20Deine%20Aktion.%20Picknicken%2C%20spielen%2C%20eine%20Lesung%20oder%2
 0ein%20Stra%C3%9Fenkonzert%20genie%C3%9Fen%2C%20ruhen%2C%20reden%20-%20es
 %20liegt%20an%20Dir%2C%20was%20aus%20einer%20L%C3%BCcke%20werden%20kann.%
 3C%2Fp%3E%0A%3Ch2%3EDie%20Idee%3C%2Fh2%3E%0A%3Cp%3EDer%20Parking%20Day%20
 wurde%20im%20Jahr%202005%20in%20San%20Francisco%20von%20einem%20Kunst-%20
 und%20Design-Kollektiv%20ins%20Leben%20gerufen.%20Die%20Idee%20ist%20so%2
 0einfach%20wie%20%C3%BCberzeugend%3A%20Auf%20der%20Fl%C3%A4che%20eines%20
 markierten%20Parkplatzes%20wird%20tempor%C3%A4r%20ein%20%C3%B6ffentlich%2
 0zug%C3%A4nglicher%20Ort%20geschaffen.%20Was%20genau%20auf%20den%20Parkfl
 %C3%A4chen%20gestaltet%20wird%2C%20bleibt%20den%20Teilnehmer%2Ainnen%20%C
 3%BCberlassen.%20Allen%20Installationen%20ist%20gemeinsam%2C%20dass%20sie
 %20einfach%20auf-%20und%20abgebaut%20werden%20k%C3%B6nnen%20und%20dass%20
 sie%20nicht%20kommerziell%20sind.%3C%2Fp%3E":Auch dieses Jahr sind wir be
 im Parking Day dabei:\n\nKarl-Friedrich-Str. 17\n\nWir freuen uns auf eur
 e Besuche in unserer Park-Oase 🙂\n\nDie Stadt gehört uns!\n\nGestalte
  eine Parklücke zu einem PARK um!\n\nAls Familie\, Jugendgruppe\, Verein
 \, Schulklasse etc.\, alle können mitmachen. Einsetzen\, umsetzen\, hins
 etzen.\n\nDamit dein Wohnort zumindest an diesem Tag noch lebenswerter un
 d umweltfreundlicher wird.\n\nDabei steht Dir völlig frei\, auf welche A
 rt Du deinen Park zu einer kleinen autofreien Zone machst.\n\nEgal ob Blu
 men\, Hängematten\, Bänke\, Stühle\, Sofa\, Rasenflächen oder was son
 st noch zum Ausruhen und Verweilen einlädt - gestalte deinen Park\, wie 
 es dir gefällt.\n\nEs ist Deine Aktion. Picknicken\, spielen\, eine Lesu
 ng oder ein Straßenkonzert genießen\, ruhen\, reden - es liegt an Dir\,
  was aus einer Lücke werden kann.\n\nDie Idee\n\nDer Parking Day wurde i
 m Jahr 2005 in San Francisco von einem Kunst- und Design-Kollektiv ins Le
 ben gerufen. Die Idee ist so einfach wie überzeugend: Auf der Fläche ei
 nes markierten Parkplatzes wird temporär ein öffentlich zugänglicher O
 rt geschaffen. Was genau auf den Parkflächen gestaltet wird\, bleibt den
  Teilnehmer*innen überlassen. Allen Installationen ist gemeinsam\, dass 
 sie einfach auf- und abgebaut werden können und dass sie nicht kommerzie
 ll sind.
CLASS:PUBLIC
DTSTART;TZID=Europe/Berlin:20200918T000000
DTEND;TZID=Europe/Berlin:20200919T000000
DTSTAMP:20260421T092346
END:VEVENT
END:VCALENDAR